BEGIN:VCALENDAR
VERSION:2.0
PRODID:-//Library Market//iCal Export//EN
BEGIN:VEVENT
SUMMARY:Friends of the Bloomfield Branch Library - Lilac Blooms
UID:12779
DTSTAMP:20260423T171700Z
DTSTART:20260523T160000Z
DTEND:20260523T180000Z
LOCATION:Bloomfield Branch, 300 Bloomfield Main St., Bloomfield ON K0K 1G0
 , Canada
ROOM: Bloomfield - Meeting Space
DESCRIPTION:FRIENDS OF THE BLOOMFIELD LIBRARY present:Lilac Blooms:a Celeb
 ration of RejuvenationJoin us for a celebration of rejuvenation, connectio
 n, and nostalgia. Enjoy a refreshing beverage &amp; baked treats, connect 
 with friends and neighbours, and embrace the beauty of the season in a coz
 y, welcoming space. Let the delicate scent of lilacs and the charm of good
  company create a truly specialafternoon. Book Sale - Art Show &amp; Sale
  All welcome
URL:https://princeedwardcounty.librarycalendar.com/event/lilac-blooms-1277
 9
END:VEVENT
END:VCALENDAR
